Package: MPFE Version: 1.43.0 Command: chmod a+r MPFE -R && E:\biocbuild\bbs-3.21-bioc\R\bin\R.exe CMD build --keep-empty-dirs --no-resave-data MPFE StartedAt: 2025-02-18 20:04:05 -0500 (Tue, 18 Feb 2025) EndedAt: 2025-02-18 20:04:13 -0500 (Tue, 18 Feb 2025) EllapsedTime: 8.7 seconds RetCode: 0 Status: OK PackageFile: MPFE_1.43.0.tar.gz PackageFileSize: 103 KiB