Package: MPAC Version: 1.1.4 Command: E:\biocbuild\bbs-3.21-bioc\R\bin\R.exe CMD INSTALL MPAC StartedAt: 2025-02-20 16:50:42 -0500 (Thu, 20 Feb 2025) EndedAt: 2025-02-20 16:51:28 -0500 (Thu, 20 Feb 2025) EllapsedTime: 46.3 seconds RetCode: 0 Status: OK