Package: MPAC Version: 1.1.4 Command: /home/biocbuild/bbs-3.21-bioc/R/bin/R CMD INSTALL MPAC StartedAt: 2025-02-20 16:08:30 -0500 (Thu, 20 Feb 2025) EndedAt: 2025-02-20 16:09:01 -0500 (Thu, 20 Feb 2025) EllapsedTime: 30.4 seconds RetCode: 0 Status: OK