Package: MPAC Version: 1.1.4 Command: /home/biocbuild/bbs-3.21-bioc/R/bin/R CMD build --keep-empty-dirs --no-resave-data MPAC StartedAt: 2025-02-20 18:19:28 -0500 (Thu, 20 Feb 2025) EndedAt: 2025-02-20 18:20:26 -0500 (Thu, 20 Feb 2025) EllapsedTime: 58.1 seconds RetCode: 0 Status: OK PackageFile: MPAC_1.1.4.tar.gz PackageFileSize: 795.1 KiB