Package: MPAC Version: 1.1.4 Command: /Library/Frameworks/R.framework/Resources/bin/R CMD INSTALL MPAC StartedAt: 2025-02-19 15:40:28 -0500 (Wed, 19 Feb 2025) EndedAt: 2025-02-19 15:41:10 -0500 (Wed, 19 Feb 2025) EllapsedTime: 41.7 seconds RetCode: 0 Status: OK