Package: MPAC Version: 1.1.4 Command: /Library/Frameworks/R.framework/Resources/bin/R CMD INSTALL MPAC StartedAt: 2025-02-20 15:25:43 -0500 (Thu, 20 Feb 2025) EndedAt: 2025-02-20 15:25:56 -0500 (Thu, 20 Feb 2025) EllapsedTime: 12.7 seconds RetCode: 0 Status: OK