Package: MPAC Version: 1.1.4 Command: /Library/Frameworks/R.framework/Resources/bin/R CMD check --install=check:MPAC.install-out.txt --library=/Library/Frameworks/R.framework/Resources/library --no-vignettes --timings MPAC_1.1.4.tar.gz StartedAt: 2025-02-20 20:19:53 -0500 (Thu, 20 Feb 2025) EndedAt: 2025-02-20 20:21:32 -0500 (Thu, 20 Feb 2025) EllapsedTime: 98.3 seconds RetCode: 0 Status: OK CheckDir: MPAC.Rcheck Warnings: 0