Package: MPAC Version: 1.1.4 Command: /Library/Frameworks/R.framework/Resources/bin/R CMD build --keep-empty-dirs --no-resave-data MPAC StartedAt: 2025-02-20 17:01:58 -0500 (Thu, 20 Feb 2025) EndedAt: 2025-02-20 17:02:23 -0500 (Thu, 20 Feb 2025) EllapsedTime: 25.3 seconds RetCode: 0 Status: OK PackageFile: MPAC_1.1.4.tar.gz PackageFileSize: 791.8 KiB