Package: MPAC Version: 1.1.4 Command: rm -rf MPAC.buildbin-libdir && mkdir MPAC.buildbin-libdir && /Users/biocbuild/BBS/utils/build-universal.sh MPAC_1.1.4.tar.gz /Library/Frameworks/R.framework/Resources/bin/R MPAC.buildbin-libdir StartedAt: 2025-02-20 22:26:44 -0500 (Thu, 20 Feb 2025) EndedAt: 2025-02-20 22:26:58 -0500 (Thu, 20 Feb 2025) EllapsedTime: 14.2 seconds RetCode: 0 Status: OK PackageFile: MPAC_1.1.4.tgz PackageFileSize: 789.9 KiB