Package: MOSim Version: 2.3.0 Command: rm -rf MOSim.buildbin-libdir && mkdir MOSim.buildbin-libdir && E:\biocbuild\bbs-3.21-bioc\R\bin\R.exe CMD INSTALL --build --library=MOSim.buildbin-libdir MOSim_2.3.0.tar.gz StartedAt: 2025-02-20 08:14:26 -0500 (Thu, 20 Feb 2025) EndedAt: 2025-02-20 08:15:35 -0500 (Thu, 20 Feb 2025) EllapsedTime: 69.4 seconds RetCode: 0 Status: OK PackageFile: MOSim_2.3.0.zip PackageFileSize: 6.762 MiB