Package: MOSim Version: 2.3.0 Command: rm -rf MOSim.buildbin-libdir && mkdir MOSim.buildbin-libdir && /Users/biocbuild/BBS/utils/build-universal.sh MOSim_2.3.0.tar.gz /Library/Frameworks/R.framework/Resources/bin/R MOSim.buildbin-libdir StartedAt: 2025-02-20 00:42:26 -0500 (Thu, 20 Feb 2025) EndedAt: 2025-02-20 00:43:21 -0500 (Thu, 20 Feb 2025) EllapsedTime: 55.4 seconds RetCode: 0 Status: OK PackageFile: MOSim_2.3.0.tgz PackageFileSize: 6.451 MiB