############################################################################## ############################################################################## ### ### Running command: ### ### /home/biocbuild/bbs-3.21-bioc/R/bin/R CMD build --keep-empty-dirs --no-resave-data MOSClip ### ############################################################################## ############################################################################## * checking for file ‘MOSClip/DESCRIPTION’ ... OK * preparing ‘MOSClip’: * checking DESCRIPTION meta-information ... OK * installing the package to build vignettes ----------------------------------- ERROR: dependency ‘qpgraph’ is not available for package ‘MOSClip’ Perhaps try a variation of: install.packages('qpgraph') * removing ‘/tmp/RtmpTg7MlW/Rinst1c66204749977e/MOSClip’ ----------------------------------- ERROR: package installation failed