Package: MOSClip Version: 1.1.0 Command: /Library/Frameworks/R.framework/Resources/bin/R CMD build --keep-empty-dirs --no-resave-data MOSClip StartedAt: 2025-02-19 17:25:17 -0500 (Wed, 19 Feb 2025) EndedAt: 2025-02-19 17:27:57 -0500 (Wed, 19 Feb 2025) EllapsedTime: 159.7 seconds RetCode: 0 Status: OK PackageFile: MOSClip_1.1.0.tar.gz PackageFileSize: 2.126 MiB