Package: MOSClip Version: 1.1.0 Command: /Library/Frameworks/R.framework/Resources/bin/R CMD INSTALL MOSClip StartedAt: 2025-02-20 15:28:57 -0500 (Thu, 20 Feb 2025) EndedAt: 2025-02-20 15:29:17 -0500 (Thu, 20 Feb 2025) EllapsedTime: 19.7 seconds RetCode: 0 Status: OK