Package: MOSClip Version: 1.1.0 Command: /Library/Frameworks/R.framework/Resources/bin/R CMD build --keep-empty-dirs --no-resave-data MOSClip StartedAt: 2025-02-20 17:00:17 -0500 (Thu, 20 Feb 2025) EndedAt: 2025-02-20 17:00:52 -0500 (Thu, 20 Feb 2025) EllapsedTime: 35.4 seconds RetCode: 0 Status: OK PackageFile: MOSClip_1.1.0.tar.gz PackageFileSize: 2.137 MiB