Package: MOSClip Version: 1.1.0 Command: rm -rf MOSClip.buildbin-libdir && mkdir MOSClip.buildbin-libdir && /Users/biocbuild/BBS/utils/build-universal.sh MOSClip_1.1.0.tar.gz /Library/Frameworks/R.framework/Resources/bin/R MOSClip.buildbin-libdir StartedAt: 2025-02-20 22:26:28 -0500 (Thu, 20 Feb 2025) EndedAt: 2025-02-20 22:26:49 -0500 (Thu, 20 Feb 2025) EllapsedTime: 21.4 seconds RetCode: 0 Status: OK PackageFile: MOSClip_1.1.0.tgz PackageFileSize: 2.429 MiB