Package: MOMA Version: 1.19.0 Command: /home/biocbuild/bbs-3.21-bioc/R/bin/R CMD check --install=check:MOMA.install-out.txt --library=/home/biocbuild/bbs-3.21-bioc/R/site-library --timings MOMA_1.19.0.tar.gz StartedAt: 2025-02-20 23:47:45 -0500 (Thu, 20 Feb 2025) EndedAt: 2025-02-20 23:52:46 -0500 (Thu, 20 Feb 2025) EllapsedTime: 301.4 seconds RetCode: 0 Status: OK CheckDir: MOMA.Rcheck Warnings: 0