Package: MOMA Version: 1.19.0 Command: /home/biocbuild/bbs-3.21-bioc/R/bin/R CMD build --keep-empty-dirs --no-resave-data MOMA StartedAt: 2025-02-20 18:17:08 -0500 (Thu, 20 Feb 2025) EndedAt: 2025-02-20 18:19:13 -0500 (Thu, 20 Feb 2025) EllapsedTime: 125.2 seconds RetCode: 0 Status: OK PackageFile: MOMA_1.19.0.tar.gz PackageFileSize: 4.29 MiB