Package: MOMA Version: 1.19.0 Command: /home/biocbuild/R/R/bin/R CMD INSTALL MOMA StartedAt: 2025-01-29 20:02:07 -0000 (Wed, 29 Jan 2025) EndedAt: 2025-01-29 20:02:49 -0000 (Wed, 29 Jan 2025) EllapsedTime: 42.1 seconds RetCode: 0 Status: OK