Package: MOMA Version: 1.19.0 Command: rm -rf MOMA.buildbin-libdir && mkdir MOMA.buildbin-libdir && /Users/biocbuild/BBS/utils/build-universal.sh MOMA_1.19.0.tar.gz /Library/Frameworks/R.framework/Resources/bin/R MOMA.buildbin-libdir StartedAt: 2025-02-19 22:29:31 -0500 (Wed, 19 Feb 2025) EndedAt: 2025-02-19 22:29:45 -0500 (Wed, 19 Feb 2025) EllapsedTime: 14.3 seconds RetCode: 0 Status: OK PackageFile: MOMA_1.19.0.tgz PackageFileSize: 5.28 MiB