Package: MOGAMUN Version: 1.17.0 Command: chmod a+r MOGAMUN -R && E:\biocbuild\bbs-3.21-bioc\R\bin\R.exe CMD build --keep-empty-dirs --no-resave-data MOGAMUN StartedAt: 2025-02-20 20:05:11 -0500 (Thu, 20 Feb 2025) EndedAt: 2025-02-20 20:05:35 -0500 (Thu, 20 Feb 2025) EllapsedTime: 23.7 seconds RetCode: 0 Status: OK PackageFile: MOGAMUN_1.17.0.tar.gz PackageFileSize: 125.8 KiB