Package: MOGAMUN Version: 1.17.0 Command: rm -rf MOGAMUN.buildbin-libdir && mkdir MOGAMUN.buildbin-libdir && E:\biocbuild\bbs-3.21-bioc\R\bin\R.exe CMD INSTALL --build --library=MOGAMUN.buildbin-libdir MOGAMUN_1.17.0.tar.gz StartedAt: 2025-02-21 08:34:30 -0500 (Fri, 21 Feb 2025) EndedAt: 2025-02-21 08:34:56 -0500 (Fri, 21 Feb 2025) EllapsedTime: 26.6 seconds RetCode: 0 Status: OK PackageFile: MOGAMUN_1.17.0.zip PackageFileSize: 184 KiB