Package: MOFA2 Version: 1.17.0 Command: /home/biocbuild/bbs-3.21-bioc/R/bin/R CMD check --install=check:MOFA2.install-out.txt --library=/home/biocbuild/bbs-3.21-bioc/R/site-library --timings MOFA2_1.17.0.tar.gz StartedAt: 2025-02-20 23:46:56 -0500 (Thu, 20 Feb 2025) EndedAt: 2025-02-20 23:52:16 -0500 (Thu, 20 Feb 2025) EllapsedTime: 320.4 seconds RetCode: 0 Status: WARNINGS CheckDir: MOFA2.Rcheck Warnings: 1