Package: MODA Version: 1.33.0 Command: /home/biocbuild/bbs-3.21-bioc/R/bin/R CMD check --install=check:MODA.install-out.txt --library=/home/biocbuild/bbs-3.21-bioc/R/site-library --timings MODA_1.33.0.tar.gz StartedAt: 2025-02-20 00:13:05 -0500 (Thu, 20 Feb 2025) EndedAt: 2025-02-20 00:15:12 -0500 (Thu, 20 Feb 2025) EllapsedTime: 127.2 seconds RetCode: 0 Status: OK CheckDir: MODA.Rcheck Warnings: 0