Package: MMDiff2 Version: 1.35.0 Command: /home/biocbuild/bbs-3.21-bioc/R/bin/R CMD build --keep-empty-dirs --no-resave-data MMDiff2 StartedAt: 2025-02-19 18:09:44 -0500 (Wed, 19 Feb 2025) EndedAt: 2025-02-19 18:11:21 -0500 (Wed, 19 Feb 2025) EllapsedTime: 97.1 seconds RetCode: 0 Status: OK PackageFile: MMDiff2_1.35.0.tar.gz PackageFileSize: 2.868 MiB