Package: MMDiff2 Version: 1.35.0 Command: /home/biocbuild/R/R/bin/R CMD build --keep-empty-dirs --no-resave-data MMDiff2 StartedAt: 2025-01-29 00:27:19 -0000 (Wed, 29 Jan 2025) EndedAt: 2025-01-29 00:29:59 -0000 (Wed, 29 Jan 2025) EllapsedTime: 159.1 seconds RetCode: 0 Status: OK PackageFile: MMDiff2_1.35.0.tar.gz PackageFileSize: 2.871 MiB