Package: MLSeq Version: 2.25.0 Command: rm -rf MLSeq.buildbin-libdir && mkdir MLSeq.buildbin-libdir && E:\biocbuild\bbs-3.21-bioc\R\bin\R.exe CMD INSTALL --build --library=MLSeq.buildbin-libdir MLSeq_2.25.0.tar.gz StartedAt: 2025-02-20 08:13:05 -0500 (Thu, 20 Feb 2025) EndedAt: 2025-02-20 08:14:08 -0500 (Thu, 20 Feb 2025) EllapsedTime: 62.6 seconds RetCode: 0 Status: OK PackageFile: MLSeq_2.25.0.zip PackageFileSize: 1022 KiB