Package: MLSeq Version: 2.25.0 Command: /home/biocbuild/bbs-3.21-bioc/R/bin/R CMD INSTALL MLSeq StartedAt: 2025-02-18 15:19:19 -0500 (Tue, 18 Feb 2025) EndedAt: 2025-02-18 15:19:52 -0500 (Tue, 18 Feb 2025) EllapsedTime: 32.6 seconds RetCode: 0 Status: OK