Package: MLSeq Version: 2.25.0 Command: /Library/Frameworks/R.framework/Resources/bin/R CMD check --install=check:MLSeq.install-out.txt --library=/Library/Frameworks/R.framework/Resources/library --no-vignettes --timings MLSeq_2.25.0.tar.gz StartedAt: 2025-02-19 21:42:50 -0500 (Wed, 19 Feb 2025) EndedAt: 2025-02-19 21:46:48 -0500 (Wed, 19 Feb 2025) EllapsedTime: 237.5 seconds RetCode: 0 Status: OK CheckDir: MLSeq.Rcheck Warnings: 0