Package: MLSeq Version: 2.25.0 Command: /Library/Frameworks/R.framework/Resources/bin/R CMD INSTALL MLSeq StartedAt: 2025-02-18 15:24:22 -0500 (Tue, 18 Feb 2025) EndedAt: 2025-02-18 15:24:35 -0500 (Tue, 18 Feb 2025) EllapsedTime: 13.2 seconds RetCode: 0 Status: OK