Package: MLP Version: 1.55.0 Command: /home/biocbuild/bbs-3.21-bioc/R/bin/R CMD check --install=check:MLP.install-out.txt --library=/home/biocbuild/bbs-3.21-bioc/R/site-library --timings MLP_1.55.0.tar.gz StartedAt: 2025-02-20 00:10:03 -0500 (Thu, 20 Feb 2025) EndedAt: 2025-02-20 00:17:32 -0500 (Thu, 20 Feb 2025) EllapsedTime: 448.5 seconds RetCode: 0 Status: OK CheckDir: MLP.Rcheck Warnings: 0