Package: MIRit Version: 1.3.0 Command: E:\biocbuild\bbs-3.21-bioc\R\bin\R.exe CMD INSTALL MIRit StartedAt: 2025-02-18 16:56:49 -0500 (Tue, 18 Feb 2025) EndedAt: 2025-02-18 16:58:45 -0500 (Tue, 18 Feb 2025) EllapsedTime: 115.8 seconds RetCode: 0 Status: OK