Package: MIRit Version: 1.3.0 Command: /Library/Frameworks/R.framework/Resources/bin/R CMD INSTALL MIRit StartedAt: 2025-02-19 15:42:54 -0500 (Wed, 19 Feb 2025) EndedAt: 2025-02-19 15:43:47 -0500 (Wed, 19 Feb 2025) EllapsedTime: 53.1 seconds RetCode: 0 Status: OK