Package: MIRit Version: 1.3.0 Command: /Library/Frameworks/R.framework/Resources/bin/R CMD build --keep-empty-dirs --no-resave-data MIRit StartedAt: 2025-02-19 17:21:46 -0500 (Wed, 19 Feb 2025) EndedAt: 2025-02-19 17:23:10 -0500 (Wed, 19 Feb 2025) EllapsedTime: 84.5 seconds RetCode: 0 Status: OK PackageFile: MIRit_1.3.0.tar.gz PackageFileSize: 2.695 MiB