Package: MIRA Version: 1.29.0 Command: /home/biocbuild/bbs-3.21-bioc/R/bin/R CMD INSTALL MIRA StartedAt: 2025-02-20 15:49:51 -0500 (Thu, 20 Feb 2025) EndedAt: 2025-02-20 15:50:31 -0500 (Thu, 20 Feb 2025) EllapsedTime: 39.3 seconds RetCode: 0 Status: OK