Package: MIRA Version: 1.29.0 Command: /home/biocbuild/bbs-3.21-bioc/R/bin/R CMD build --keep-empty-dirs --no-resave-data MIRA StartedAt: 2025-02-20 18:13:05 -0500 (Thu, 20 Feb 2025) EndedAt: 2025-02-20 18:14:07 -0500 (Thu, 20 Feb 2025) EllapsedTime: 62.1 seconds RetCode: 0 Status: OK PackageFile: MIRA_1.29.0.tar.gz PackageFileSize: 2.506 MiB