Package: MIRA Version: 1.29.0 Command: /home/biocbuild/R/R/bin/R CMD build --keep-empty-dirs --no-resave-data MIRA StartedAt: 2025-01-29 00:21:59 -0000 (Wed, 29 Jan 2025) EndedAt: 2025-01-29 00:23:25 -0000 (Wed, 29 Jan 2025) EllapsedTime: 86.0 seconds RetCode: 0 Status: OK PackageFile: MIRA_1.29.0.tar.gz PackageFileSize: 1.966 MiB