Package: MIRA Version: 1.29.0 Command: /Library/Frameworks/R.framework/Resources/bin/R CMD check --install=check:MIRA.install-out.txt --library=/Library/Frameworks/R.framework/Resources/library --no-vignettes --timings MIRA_1.29.0.tar.gz StartedAt: 2025-02-20 20:11:02 -0500 (Thu, 20 Feb 2025) EndedAt: 2025-02-20 20:12:59 -0500 (Thu, 20 Feb 2025) EllapsedTime: 116.4 seconds RetCode: 0 Status: OK CheckDir: MIRA.Rcheck Warnings: 0