Package: MICSQTL Version: 1.5.0 Command: E:\biocbuild\bbs-3.21-bioc\R\bin\R.exe CMD check --no-multiarch --install=check:MICSQTL.install-out.txt --library=E:\biocbuild\bbs-3.21-bioc\R\library --no-vignettes --timings MICSQTL_1.5.0.tar.gz StartedAt: 2025-02-20 03:00:03 -0500 (Thu, 20 Feb 2025) EndedAt: 2025-02-20 03:12:38 -0500 (Thu, 20 Feb 2025) EllapsedTime: 754.6 seconds RetCode: 0 Status: OK CheckDir: MICSQTL.Rcheck Warnings: 0