Package: MICSQTL Version: 1.5.0 Command: rm -rf MICSQTL.buildbin-libdir && mkdir MICSQTL.buildbin-libdir && E:\biocbuild\bbs-3.21-bioc\R\bin\R.exe CMD INSTALL --build --library=MICSQTL.buildbin-libdir MICSQTL_1.5.0.tar.gz StartedAt: 2025-02-20 08:11:25 -0500 (Thu, 20 Feb 2025) EndedAt: 2025-02-20 08:12:04 -0500 (Thu, 20 Feb 2025) EllapsedTime: 39.6 seconds RetCode: 0 Status: OK PackageFile: MICSQTL_1.5.0.zip PackageFileSize: 2.646 MiB