Package: MICSQTL Version: 1.5.0 Command: /Library/Frameworks/R.framework/Resources/bin/R CMD check --install=check:MICSQTL.install-out.txt --library=/Library/Frameworks/R.framework/Resources/library --no-vignettes --timings MICSQTL_1.5.0.tar.gz StartedAt: 2025-02-20 21:36:48 -0500 (Thu, 20 Feb 2025) EndedAt: 2025-02-20 21:46:17 -0500 (Thu, 20 Feb 2025) EllapsedTime: 568.2 seconds RetCode: 0 Status: OK CheckDir: MICSQTL.Rcheck Warnings: 0