Package: MICSQTL Version: 1.5.0 Command: rm -rf MICSQTL.buildbin-libdir && mkdir MICSQTL.buildbin-libdir && /Users/biocbuild/BBS/utils/build-universal.sh MICSQTL_1.5.0.tar.gz /Library/Frameworks/R.framework/Resources/bin/R MICSQTL.buildbin-libdir StartedAt: 2025-02-21 00:40:02 -0500 (Fri, 21 Feb 2025) EndedAt: 2025-02-21 00:40:40 -0500 (Fri, 21 Feb 2025) EllapsedTime: 38.2 seconds RetCode: 0 Status: OK PackageFile: MICSQTL_1.5.0.tgz PackageFileSize: 2.643 MiB