Package: MGFR Version: 1.33.0 Command: E:\biocbuild\bbs-3.21-bioc\R\bin\R.exe CMD INSTALL MGFR StartedAt: 2025-02-20 15:48:08 -0500 (Thu, 20 Feb 2025) EndedAt: 2025-02-20 15:48:29 -0500 (Thu, 20 Feb 2025) EllapsedTime: 21.3 seconds RetCode: 0 Status: OK