Package: MGFR Version: 1.33.0 Command: /home/biocbuild/bbs-3.21-bioc/R/bin/R CMD INSTALL MGFR StartedAt: 2025-02-20 15:39:46 -0500 (Thu, 20 Feb 2025) EndedAt: 2025-02-20 15:40:01 -0500 (Thu, 20 Feb 2025) EllapsedTime: 14.7 seconds RetCode: 0 Status: OK