Package: MGFR Version: 1.33.0 Command: /Library/Frameworks/R.framework/Resources/bin/R CMD check --install=check:MGFR.install-out.txt --library=/Library/Frameworks/R.framework/Resources/library --no-vignettes --timings MGFR_1.33.0.tar.gz StartedAt: 2025-02-20 21:35:10 -0500 (Thu, 20 Feb 2025) EndedAt: 2025-02-20 21:37:28 -0500 (Thu, 20 Feb 2025) EllapsedTime: 138.8 seconds RetCode: 0 Status: OK CheckDir: MGFR.Rcheck Warnings: 0