Package: MGFR Version: 1.33.0 Command: /Library/Frameworks/R.framework/Resources/bin/R CMD build --keep-empty-dirs --no-resave-data MGFR StartedAt: 2025-02-20 16:55:20 -0500 (Thu, 20 Feb 2025) EndedAt: 2025-02-20 16:55:44 -0500 (Thu, 20 Feb 2025) EllapsedTime: 23.3 seconds RetCode: 0 Status: OK PackageFile: MGFR_1.33.0.tar.gz PackageFileSize: 1.824 MiB