Package: MEIGOR Version: 1.41.0 Command: chmod a+r MEIGOR -R && E:\biocbuild\bbs-3.21-bioc\R\bin\R.exe CMD build --keep-empty-dirs --no-resave-data MEIGOR StartedAt: 2025-02-19 19:45:56 -0500 (Wed, 19 Feb 2025) EndedAt: 2025-02-19 19:47:20 -0500 (Wed, 19 Feb 2025) EllapsedTime: 83.6 seconds RetCode: 0 Status: OK PackageFile: MEIGOR_1.41.0.tar.gz PackageFileSize: 579.5 KiB