Package: MEIGOR Version: 1.41.0 Command: /Library/Frameworks/R.framework/Resources/bin/R CMD INSTALL MEIGOR StartedAt: 2025-02-19 15:24:49 -0500 (Wed, 19 Feb 2025) EndedAt: 2025-02-19 15:25:03 -0500 (Wed, 19 Feb 2025) EllapsedTime: 13.3 seconds RetCode: 0 Status: OK