Package: MEIGOR Version: 1.41.0 Command: /Library/Frameworks/R.framework/Resources/bin/R CMD check --install=check:MEIGOR.install-out.txt --library=/Library/Frameworks/R.framework/Resources/library --no-vignettes --timings MEIGOR_1.41.0.tar.gz StartedAt: 2025-02-19 20:05:10 -0500 (Wed, 19 Feb 2025) EndedAt: 2025-02-19 20:05:49 -0500 (Wed, 19 Feb 2025) EllapsedTime: 39.4 seconds RetCode: 0 Status: OK CheckDir: MEIGOR.Rcheck Warnings: 0