Package: MEDME Version: 1.67.0 Command: chmod a+r MEDME -R && E:\biocbuild\bbs-3.21-bioc\R\bin\R.exe CMD build --keep-empty-dirs --no-resave-data MEDME StartedAt: 2025-02-20 19:47:35 -0500 (Thu, 20 Feb 2025) EndedAt: 2025-02-20 19:48:37 -0500 (Thu, 20 Feb 2025) EllapsedTime: 61.4 seconds RetCode: 0 Status: OK PackageFile: MEDME_1.67.0.tar.gz PackageFileSize: 338.9 KiB